BEGIN:VCALENDAR
VERSION:2.0
PRODID:-//California Moving &amp; Storage Association - ECPv6.15.20//NONSGML v1.0//EN
CALSCALE:GREGORIAN
METHOD:PUBLISH
X-WR-CALNAME:California Moving &amp; Storage Association
X-ORIGINAL-URL:https://thecmsa.org
X-WR-CALDESC:Events for California Moving &amp; Storage Association
REFRESH-INTERVAL;VALUE=DURATION:PT1H
X-Robots-Tag:noindex
X-PUBLISHED-TTL:PT1H
BEGIN:VTIMEZONE
TZID:America/Los_Angeles
BEGIN:DAYLIGHT
TZOFFSETFROM:-0800
TZOFFSETTO:-0700
TZNAME:PDT
DTSTART:20250309T100000
END:DAYLIGHT
BEGIN:STANDARD
TZOFFSETFROM:-0700
TZOFFSETTO:-0800
TZNAME:PST
DTSTART:20251102T090000
END:STANDARD
BEGIN:DAYLIGHT
TZOFFSETFROM:-0800
TZOFFSETTO:-0700
TZNAME:PDT
DTSTART:20260308T100000
END:DAYLIGHT
BEGIN:STANDARD
TZOFFSETFROM:-0700
TZOFFSETTO:-0800
TZNAME:PST
DTSTART:20261101T090000
END:STANDARD
BEGIN:DAYLIGHT
TZOFFSETFROM:-0800
TZOFFSETTO:-0700
TZNAME:PDT
DTSTART:20270314T100000
END:DAYLIGHT
BEGIN:STANDARD
TZOFFSETFROM:-0700
TZOFFSETTO:-0800
TZNAME:PST
DTSTART:20271107T090000
END:STANDARD
END:VTIMEZONE
BEGIN:VEVENT
DTSTART;TZID=America/Los_Angeles:20260217T173000
DTEND;TZID=America/Los_Angeles:20260217T180000
DTSTAMP:20260420T031639
CREATED:20260205T001855Z
LAST-MODIFIED:20260205T001942Z
UID:2363-1771349400-1771351200@thecmsa.org
SUMMARY:North Bay Chapter's February Meeting
DESCRIPTION:Join us in thanking our vendors.  The North Bay Chapter will host a Vendor Appreciation Night on February 17\, 2026\, at Chianti Cucina.  Plan on attending! \nNorth Bay February 2026 Chapter Meeting Flyer
URL:https://thecmsa.org/event/north-bay-chapters-february-meeting/
LOCATION:Chianti Cucina\, 7416 Redwood Blvd.\, Novato\, CA\, 94945
CATEGORIES:Chapter Meeting
ORGANIZER;CN="North Bay Chapter":MAILTO:sandi@bekinssantarosa.com
END:VEVENT
BEGIN:VEVENT
DTSTART;TZID=America/Los_Angeles:20260217T180000
DTEND;TZID=America/Los_Angeles:20260217T200000
DTSTAMP:20260420T031639
CREATED:20260129T235502Z
LAST-MODIFIED:20260212T180708Z
UID:2312-1771351200-1771358400@thecmsa.org
SUMMARY:Mid Valley Chapter's February Meeting
DESCRIPTION:Please save the date for the Mid Valley Chapter’s February Chapter Meeting. \nDate:  Tuesday\, February 17\, 2026 \nThis will be “Vendor Appreciation Night.”  Plan on attending. \nMid Valley February 2026 Meeting
URL:https://thecmsa.org/event/save-the-date-mid-valley-chapters-february-meeting/
LOCATION:CA
CATEGORIES:Chapter Meeting
END:VEVENT
BEGIN:VEVENT
DTSTART;TZID=America/Los_Angeles:20260218T180000
DTEND;TZID=America/Los_Angeles:20260218T220000
DTSTAMP:20260420T031639
CREATED:20260204T181139Z
LAST-MODIFIED:20260204T181320Z
UID:2354-1771437600-1771452000@thecmsa.org
SUMMARY:Greater Los Angeles February Chapter Meeting
DESCRIPTION:The Greater Los Angeles Chapter invites you to join them for their February 2026 Meeting.  They will welcome CMSA President Steve Weitekamp to speak.  You won’t want to miss it. \n  \nLA February 2026 Chapter Meeting
URL:https://thecmsa.org/event/greater-los-angeles-february-chapter-meeting/
LOCATION:Ernie’s Mexican Restaurant\, 4410 Lankershim Blvd.\, North Hollywood\, CA 91602
CATEGORIES:Chapter Meeting
ORGANIZER;CN="Greater Los Angeles Chapter":MAILTO:amberly@bluechipmoving.com
END:VEVENT
BEGIN:VEVENT
DTSTART;TZID=America/Los_Angeles:20260219T173000
DTEND;TZID=America/Los_Angeles:20260219T203000
DTSTAMP:20260420T031639
CREATED:20260129T222402Z
LAST-MODIFIED:20260130T003658Z
UID:2306-1771522200-1771533000@thecmsa.org
SUMMARY:Northern Region Chapter's February 2026 Meeting
DESCRIPTION:DATE:            Thursday February 19\, 2026\n \nTIME:               5:30 p.m.– 6:30 p.m. No Host Cocktails\n                                           6:30 p.m. – 8:30 p.m. Dinner                          \n                          (with RAFFLE to follow)\n \nPLACE:             Amara Restaurant\n1015 Alameda de Las Pulgas\nBelmont\, CA 94002\n \nMENU:            Family Style dinner with beef\, chicken\, fish options.  \n \nSponsorship Opportunities available. High visibility social media accounts.\n\nTARIFF:          $85.99 paid by check\, credit or debit card\n                          If you send your reservation form\, and do not show up\, we will invoice you (as we have a commitment with the restaurant)\n\n\nWe will be introducing the new Northern Region Chapter President!\n\n\nUse link to registration form.\nhttps://thecmsa.org/wp-content/uploads/2026/01/Northern-Region-February-2026-Chapter-Meeting.pdf\n\nRegister online using the link below.\n\nhttps://california-moving-and-storage-association-northern-california-c.square.site/
URL:https://thecmsa.org/event/northern-region-chapters-february-2026-meeting/
LOCATION:Amara Restaurant\, 1015 Alameda de Las Pulgas\, Belmont\, CA\, 94002
CATEGORIES:Chapter Meeting
END:VEVENT
END:VCALENDAR