BEGIN:VCALENDAR
VERSION:2.0
PRODID:-//California Moving &amp; Storage Association - ECPv6.15.20//NONSGML v1.0//EN
CALSCALE:GREGORIAN
METHOD:PUBLISH
X-WR-CALNAME:California Moving &amp; Storage Association
X-ORIGINAL-URL:https://thecmsa.org
X-WR-CALDESC:Events for California Moving &amp; Storage Association
REFRESH-INTERVAL;VALUE=DURATION:PT1H
X-Robots-Tag:noindex
X-PUBLISHED-TTL:PT1H
BEGIN:VTIMEZONE
TZID:America/Los_Angeles
BEGIN:DAYLIGHT
TZOFFSETFROM:-0800
TZOFFSETTO:-0700
TZNAME:PDT
DTSTART:20250309T100000
END:DAYLIGHT
BEGIN:STANDARD
TZOFFSETFROM:-0700
TZOFFSETTO:-0800
TZNAME:PST
DTSTART:20251102T090000
END:STANDARD
BEGIN:DAYLIGHT
TZOFFSETFROM:-0800
TZOFFSETTO:-0700
TZNAME:PDT
DTSTART:20260308T100000
END:DAYLIGHT
BEGIN:STANDARD
TZOFFSETFROM:-0700
TZOFFSETTO:-0800
TZNAME:PST
DTSTART:20261101T090000
END:STANDARD
BEGIN:DAYLIGHT
TZOFFSETFROM:-0800
TZOFFSETTO:-0700
TZNAME:PDT
DTSTART:20270314T100000
END:DAYLIGHT
BEGIN:STANDARD
TZOFFSETFROM:-0700
TZOFFSETTO:-0800
TZNAME:PST
DTSTART:20271107T090000
END:STANDARD
END:VTIMEZONE
BEGIN:VEVENT
DTSTART;TZID=America/Los_Angeles:20260424T093000
DTEND;TZID=America/Los_Angeles:20260424T160000
DTSTAMP:20260419T214902
CREATED:20260317T181453Z
LAST-MODIFIED:20260317T181705Z
UID:2475-1777023000-1777046400@thecmsa.org
SUMMARY:Central Valley Chapter's April Peak Season Meeting
DESCRIPTION:The Central Valley Chapter invites you to their “Peak Season” Meeting. \nFriday\, April 24\, 2026\, at the Tachi Palace Casino Resort. \n  \n2026 Peak Lunch Season Meeting Flyer
URL:https://thecmsa.org/event/central-valley-chapters-april-peak-season-meeting/
LOCATION:Tachi Palace Casino Resort\, 17225 Jersey Avenue\, Lemoore\, CA\, 93245
CATEGORIES:Chapter Meeting
ORGANIZER;CN="Central Valley Chapter":MAILTO:rhondas@lemooremovers.com
END:VEVENT
BEGIN:VEVENT
DTSTART;TZID=America/Los_Angeles:20260430T173000
DTEND;TZID=America/Los_Angeles:20260430T203000
DTSTAMP:20260419T214902
CREATED:20260416T224811Z
LAST-MODIFIED:20260416T225741Z
UID:2512-1777570200-1777581000@thecmsa.org
SUMMARY:Northern Region Chapter's April Meeting
DESCRIPTION:Northern Region Chapter is having their April meeting on Thursday\, April 30\, 2026\, at Kukar’s House of Pizza. \nCost:  $75.00 \nLet’s Get Together Before Convention And The Busy Summer Season!\nNorthern Region 04-30-2026
URL:https://thecmsa.org/event/northern-region-april-chapter-meeting/
LOCATION:Kukar’s House of Pizza\, 527 South Almaden Avenue\, San Jose\, CA\, 95110
CATEGORIES:Chapter Meeting
END:VEVENT
END:VCALENDAR