BEGIN:VCALENDAR
VERSION:2.0
PRODID:-//California Moving &amp; Storage Association - ECPv6.15.20//NONSGML v1.0//EN
CALSCALE:GREGORIAN
METHOD:PUBLISH
X-WR-CALNAME:California Moving &amp; Storage Association
X-ORIGINAL-URL:https://thecmsa.org
X-WR-CALDESC:Events for California Moving &amp; Storage Association
REFRESH-INTERVAL;VALUE=DURATION:PT1H
X-Robots-Tag:noindex
X-PUBLISHED-TTL:PT1H
BEGIN:VTIMEZONE
TZID:America/Los_Angeles
BEGIN:DAYLIGHT
TZOFFSETFROM:-0800
TZOFFSETTO:-0700
TZNAME:PDT
DTSTART:20250309T100000
END:DAYLIGHT
BEGIN:STANDARD
TZOFFSETFROM:-0700
TZOFFSETTO:-0800
TZNAME:PST
DTSTART:20251102T090000
END:STANDARD
BEGIN:DAYLIGHT
TZOFFSETFROM:-0800
TZOFFSETTO:-0700
TZNAME:PDT
DTSTART:20260308T100000
END:DAYLIGHT
BEGIN:STANDARD
TZOFFSETFROM:-0700
TZOFFSETTO:-0800
TZNAME:PST
DTSTART:20261101T090000
END:STANDARD
BEGIN:DAYLIGHT
TZOFFSETFROM:-0800
TZOFFSETTO:-0700
TZNAME:PDT
DTSTART:20270314T100000
END:DAYLIGHT
BEGIN:STANDARD
TZOFFSETFROM:-0700
TZOFFSETTO:-0800
TZNAME:PST
DTSTART:20271107T090000
END:STANDARD
END:VTIMEZONE
BEGIN:VEVENT
DTSTART;TZID=America/Los_Angeles:20260207T080000
DTEND;TZID=America/Los_Angeles:20260207T170000
DTSTAMP:20260420T024053
CREATED:20260119T191734Z
LAST-MODIFIED:20260119T191800Z
UID:2285-1770451200-1770483600@thecmsa.org
SUMMARY:Central Valley Chapter's Pickleball Tournament - Saturday\, February 7\, 2026
DESCRIPTION:Come join the Central Valley Chapter for a “Last Minute” pickleball tournament fundraiser.  Register Now! \nEvent Address:  1010 W. Grangeville Blvd.\, Hanford\, CA  93230 \nUse QR code to register.
URL:https://thecmsa.org/event/central-valley-chapters-pickleball-tournament-saturday-february-7-2026/
LOCATION:Pickleball Hanford @ The Club\, 1010 W. Grangeville Blvd.\, Hanford\, CA\, 93230
CATEGORIES:Tournament
ORGANIZER;CN="Central Valley Chapter":MAILTO:rhondas@lemooremovers.com
END:VEVENT
END:VCALENDAR