BEGIN:VCALENDAR
VERSION:2.0
PRODID:-//California Moving &amp; Storage Association - ECPv6.15.20//NONSGML v1.0//EN
CALSCALE:GREGORIAN
METHOD:PUBLISH
X-WR-CALNAME:California Moving &amp; Storage Association
X-ORIGINAL-URL:https://thecmsa.org
X-WR-CALDESC:Events for California Moving &amp; Storage Association
REFRESH-INTERVAL;VALUE=DURATION:PT1H
X-Robots-Tag:noindex
X-PUBLISHED-TTL:PT1H
BEGIN:VTIMEZONE
TZID:America/Los_Angeles
BEGIN:DAYLIGHT
TZOFFSETFROM:-0800
TZOFFSETTO:-0700
TZNAME:PDT
DTSTART:20250309T100000
END:DAYLIGHT
BEGIN:STANDARD
TZOFFSETFROM:-0700
TZOFFSETTO:-0800
TZNAME:PST
DTSTART:20251102T090000
END:STANDARD
BEGIN:DAYLIGHT
TZOFFSETFROM:-0800
TZOFFSETTO:-0700
TZNAME:PDT
DTSTART:20260308T100000
END:DAYLIGHT
BEGIN:STANDARD
TZOFFSETFROM:-0700
TZOFFSETTO:-0800
TZNAME:PST
DTSTART:20261101T090000
END:STANDARD
BEGIN:DAYLIGHT
TZOFFSETFROM:-0800
TZOFFSETTO:-0700
TZNAME:PDT
DTSTART:20270314T100000
END:DAYLIGHT
BEGIN:STANDARD
TZOFFSETFROM:-0700
TZOFFSETTO:-0800
TZNAME:PST
DTSTART:20271107T090000
END:STANDARD
END:VTIMEZONE
BEGIN:VEVENT
DTSTART;TZID=America/Los_Angeles:20260326T080000
DTEND;TZID=America/Los_Angeles:20260326T190000
DTSTAMP:20260420T010139
CREATED:20251108T003259Z
LAST-MODIFIED:20260309T232125Z
UID:2024-1774512000-1774551600@thecmsa.org
SUMMARY:San Diego Chapter's Golf Tournament
DESCRIPTION:San Diego/Imperial Counties Chapter Annual Golf Tournament \nClick the link for more information: \n2026 TOURNAMENT FLYER \nRegistration Form: \n2026 San Diego Golf Tourn. Registration Form  \nRoom Block Link: \n\nThere is also a room rate if you want to stay…😊https://be.synxis.com/?Hotel=27133&Chain=10237&promo=PLAYGOLF [be.synxis.com] \n\n 
URL:https://thecmsa.org/event/san-diego-chapters-golf-tournament/
LOCATION:Rancho Bernardo Inn\, 17550 Bernardo Oaks Drive\, San Diego\, CA\, 92128
CATEGORIES:Tournament
END:VEVENT
END:VCALENDAR