BEGIN:VCALENDAR
VERSION:2.0
PRODID:-//California Moving &amp; Storage Association - ECPv6.15.20//NONSGML v1.0//EN
CALSCALE:GREGORIAN
METHOD:PUBLISH
X-WR-CALNAME:California Moving &amp; Storage Association
X-ORIGINAL-URL:https://thecmsa.org
X-WR-CALDESC:Events for California Moving &amp; Storage Association
REFRESH-INTERVAL;VALUE=DURATION:PT1H
X-Robots-Tag:noindex
X-PUBLISHED-TTL:PT1H
BEGIN:VTIMEZONE
TZID:America/Los_Angeles
BEGIN:DAYLIGHT
TZOFFSETFROM:-0800
TZOFFSETTO:-0700
TZNAME:PDT
DTSTART:20240310T100000
END:DAYLIGHT
BEGIN:STANDARD
TZOFFSETFROM:-0700
TZOFFSETTO:-0800
TZNAME:PST
DTSTART:20241103T090000
END:STANDARD
BEGIN:DAYLIGHT
TZOFFSETFROM:-0800
TZOFFSETTO:-0700
TZNAME:PDT
DTSTART:20250309T100000
END:DAYLIGHT
BEGIN:STANDARD
TZOFFSETFROM:-0700
TZOFFSETTO:-0800
TZNAME:PST
DTSTART:20251102T090000
END:STANDARD
BEGIN:DAYLIGHT
TZOFFSETFROM:-0800
TZOFFSETTO:-0700
TZNAME:PDT
DTSTART:20260308T100000
END:DAYLIGHT
BEGIN:STANDARD
TZOFFSETFROM:-0700
TZOFFSETTO:-0800
TZNAME:PST
DTSTART:20261101T090000
END:STANDARD
END:VTIMEZONE
BEGIN:VEVENT
DTSTART;TZID=America/Los_Angeles:20250910T000000
DTEND;TZID=America/Los_Angeles:20250910T235959
DTSTAMP:20260420T095218
CREATED:20250813T013327Z
LAST-MODIFIED:20250813T013327Z
UID:192-1757462400-1757548799@thecmsa.org
SUMMARY:Monterey Bay's September Chapter Meeting
DESCRIPTION:Monterey Bay September Chapter Meeting \nWednesday\,September 10\, 2025 \n6:00 p.m. dinner \nWoody’s at the Airport – Monterey Airport \n200 Fred Kane Drive\, Monterey\, CA \n  \nFor more information\, click on the link. \nMonterey Bay September 2025 Chapter Meeting
URL:https://thecmsa.org/event/monterey-bays-september-chapter-meeting/
LOCATION:CA
END:VEVENT
BEGIN:VEVENT
DTSTART;TZID=America/Los_Angeles:20250912T173000
DTEND;TZID=America/Los_Angeles:20250912T220000
DTSTAMP:20260420T095218
CREATED:20250813T013907Z
LAST-MODIFIED:20250813T013907Z
UID:194-1757698200-1757714400@thecmsa.org
SUMMARY:San Diego Chapter's Baseball Fundraiser
DESCRIPTION:San Diego/Imperial Counties Chapter – Baseball Fundraiser \nCome join us for a fun-filled evening at Petco Park Stadium \nFriday\, September 12\, 2025 \nGame Starts at:  6:40 p.m. – Food & Drinks: 5:30 p.m. \nPrice per ticket: $170.00 \nPremier Sponsor – CDS Packaging Solutions \nAdditional Sponsors – Pioneer Packing & DeWitt Move Worldwide \nFor more information\, click on the link below: \nSD Chapter Baseball Outing
URL:https://thecmsa.org/event/san-diego-chapters-baseball-fundraiser/
LOCATION:CA
END:VEVENT
BEGIN:VEVENT
DTSTART;TZID=America/Los_Angeles:20250923T180000
DTEND;TZID=America/Los_Angeles:20250923T210000
DTSTAMP:20260420T095218
CREATED:20250826T201158Z
LAST-MODIFIED:20250826T201158Z
UID:259-1758650400-1758661200@thecmsa.org
SUMMARY:Mid Valley September Chapter Meeting
DESCRIPTION:State of the State with CMSA Chair Jeanette Homan and CMSA President Steve Weitekamp. \nMid Valley September Chapter Meeting \nTuesday\, September 23\, 2025 \nFuzio’s Signature Buffet \n1020 10th Street\, #100 \nModesto\, CA  95354 \n6:00 p.m. No Host Cocktails \n6:30 p.m. Meeting \nFor more information\, click the link below. \nMid Valley September 2025
URL:https://thecmsa.org/event/mid-valley-september-chapter-meeting/
LOCATION:CA
END:VEVENT
BEGIN:VEVENT
DTSTART;TZID=America/Los_Angeles:20250924T180000
DTEND;TZID=America/Los_Angeles:20250924T210000
DTSTAMP:20260420T095218
CREATED:20250827T012840Z
LAST-MODIFIED:20250827T012840Z
UID:339-1758736800-1758747600@thecmsa.org
SUMMARY:Central Coast September Chapter Meeting
DESCRIPTION:State of the State with CMSA Chair Jeanette Homan and CMSA President Steve Weitekamp. \nOrder off the menu \nTariff – Meeting only $40
URL:https://thecmsa.org/event/central-coast-september-chapter-meeting/
LOCATION:CA
END:VEVENT
END:VCALENDAR