BEGIN:VCALENDAR
VERSION:2.0
PRODID:-//California Moving &amp; Storage Association - ECPv6.15.20//NONSGML v1.0//EN
CALSCALE:GREGORIAN
METHOD:PUBLISH
X-WR-CALNAME:California Moving &amp; Storage Association
X-ORIGINAL-URL:https://thecmsa.org
X-WR-CALDESC:Events for California Moving &amp; Storage Association
REFRESH-INTERVAL;VALUE=DURATION:PT1H
X-Robots-Tag:noindex
X-PUBLISHED-TTL:PT1H
BEGIN:VTIMEZONE
TZID:America/Los_Angeles
BEGIN:DAYLIGHT
TZOFFSETFROM:-0800
TZOFFSETTO:-0700
TZNAME:PDT
DTSTART:20240310T100000
END:DAYLIGHT
BEGIN:STANDARD
TZOFFSETFROM:-0700
TZOFFSETTO:-0800
TZNAME:PST
DTSTART:20241103T090000
END:STANDARD
BEGIN:DAYLIGHT
TZOFFSETFROM:-0800
TZOFFSETTO:-0700
TZNAME:PDT
DTSTART:20250309T100000
END:DAYLIGHT
BEGIN:STANDARD
TZOFFSETFROM:-0700
TZOFFSETTO:-0800
TZNAME:PST
DTSTART:20251102T090000
END:STANDARD
BEGIN:DAYLIGHT
TZOFFSETFROM:-0800
TZOFFSETTO:-0700
TZNAME:PDT
DTSTART:20260308T100000
END:DAYLIGHT
BEGIN:STANDARD
TZOFFSETFROM:-0700
TZOFFSETTO:-0800
TZNAME:PST
DTSTART:20261101T090000
END:STANDARD
END:VTIMEZONE
BEGIN:VEVENT
DTSTART;TZID=America/Los_Angeles:20251003T000000
DTEND;TZID=America/Los_Angeles:20251003T235959
DTSTAMP:20260420T075337
CREATED:20250826T070016Z
LAST-MODIFIED:20250826T070016Z
UID:345-1759449600-1759535999@thecmsa.org
SUMMARY:Monterey Bay's Cardinale Classic Golf/Bocce Ball Tournament
DESCRIPTION:Golf starting at 10 am (consecutive tee times) at Old Del Monte Golf Course. \nBocce check-in at 5:30 pm at Embassy Suites by Hilton Monterey Bay.
URL:https://thecmsa.org/event/monterey-bays-cardinale-classic-golf-bocce-ball-tournament/
LOCATION:CA
END:VEVENT
BEGIN:VEVENT
DTSTART;TZID=America/Los_Angeles:20251004T093000
DTEND;TZID=America/Los_Angeles:20251004T130000
DTSTAMP:20260420T075337
CREATED:20250827T013911Z
LAST-MODIFIED:20250827T013911Z
UID:346-1759570200-1759582800@thecmsa.org
SUMMARY:Central Valley Chapter's Cornhole Tournament
DESCRIPTION:Central Valley Chapter’s Cornhole Tournament \nSingle Person $25 \nTeam $50 \nRSVP By 9/26/2025 \n9:30 a.m. check-in \n10:00 a.m. Bags Fly \n 
URL:https://thecmsa.org/event/central-valley-chapters-cornhole-tournament/
LOCATION:CA
END:VEVENT
BEGIN:VEVENT
DTSTART;TZID=America/Los_Angeles:20251008T180000
DTEND;TZID=America/Los_Angeles:20251008T220000
DTSTAMP:20260420T075337
CREATED:20250826T203422Z
LAST-MODIFIED:20250826T203422Z
UID:272-1759946400-1759960800@thecmsa.org
SUMMARY:Greater LA October Chapter Meeting
DESCRIPTION:For More Information\, click here. \nLA October 2025 Chapter Meeting \nTo pay online\, click here. \nhttp://cmsa-los-angeles.square.site/ \nTri Tip Buffet – $85.00 per plate \n6:00 p.m. – 10:00 p.m.  Open Bar\, Buffet and Program \nSponsors: New Haven Moving Equipment Corp. and CDS Packaging Solutions
URL:https://thecmsa.org/event/greater-la-october-chapter-meeting/
LOCATION:CA
END:VEVENT
BEGIN:VEVENT
DTSTART;TZID=America/Los_Angeles:20251010T140000
DTEND;TZID=America/Los_Angeles:20251012T080000
DTSTAMP:20260420T075337
CREATED:20250828T013631Z
LAST-MODIFIED:20250828T013631Z
UID:569-1760104800-1760256000@thecmsa.org
SUMMARY:CMSA Fall Board meeting
DESCRIPTION:
URL:https://thecmsa.org/event/cmsa-fall-board-meeting/
LOCATION:CA
END:VEVENT
BEGIN:VEVENT
DTSTART;TZID=America/Los_Angeles:20251021T180000
DTEND;TZID=America/Los_Angeles:20251021T210000
DTSTAMP:20260420T075337
CREATED:20250827T193921Z
LAST-MODIFIED:20250827T193921Z
UID:469-1761069600-1761080400@thecmsa.org
SUMMARY:North Bay Chapter meeting
DESCRIPTION:
URL:https://thecmsa.org/event/north-bay-chapter-meeting/
LOCATION:CA
END:VEVENT
BEGIN:VEVENT
DTSTART;TZID=America/Los_Angeles:20251021T180000
DTEND;TZID=America/Los_Angeles:20251021T213000
DTSTAMP:20260420T075337
CREATED:20250828T012804Z
LAST-MODIFIED:20250828T012804Z
UID:563-1761069600-1761082200@thecmsa.org
SUMMARY:North Bay Chapter meeting
DESCRIPTION:
URL:https://thecmsa.org/event/north-bay-chapter-meeting-2/
LOCATION:CA
END:VEVENT
BEGIN:VEVENT
DTSTART;TZID=America/Los_Angeles:20251022T180000
DTEND;TZID=America/Los_Angeles:20251022T213000
DTSTAMP:20260420T075337
CREATED:20250828T012851Z
LAST-MODIFIED:20250828T012851Z
UID:565-1761156000-1761168600@thecmsa.org
SUMMARY:Northern Region Chapter meeting
DESCRIPTION:
URL:https://thecmsa.org/event/northern-region-chapter-meeting/
LOCATION:CA
END:VEVENT
BEGIN:VEVENT
DTSTART;TZID=America/Los_Angeles:20251030T163000
DTEND;TZID=America/Los_Angeles:20251030T193000
DTSTAMP:20260420T075337
CREATED:20250828T015230Z
LAST-MODIFIED:20251028T182026Z
UID:590-1761841800-1761852600@thecmsa.org
SUMMARY:Orange County/Beach Cities Chapter meeting
DESCRIPTION:We welcome a Supermove speaker to discuss Artificial Intelligence. \nThis will be a very exciting meeting.  Our Supermove speaker will give a live presentation.  In this session\, they will dive into something that’s reshaping the world right now – Artificial Intelligence. \n  \nOCBC October 2025 Chap Notice
URL:https://thecmsa.org/event/orange-county-beach-cities-chapter-meeting/
LOCATION:The Old Spaghetti Factory\, 12401 Folsom Blvd.\, Rancho Cordova\, CA
CATEGORIES:Chapter Meeting
END:VEVENT
END:VCALENDAR